BEGIN:VCALENDAR
METHOD:PUBLISH
PRODID:-//Weblication CMS
VERSION:2.0
BEGIN:VTIMEZONE
TZID:Europe/Berlin
X-LIC-LOCATION:Europe/Berlin
BEGIN:DAYLIGHT
TZOFFSETFROM:+0100
TZOFFSETTO:+0200
TZNAME:CEST
DTSTART:19700329T020000
RRULE:FREQ=YEARLY;BYMONTH=3;BYDAY=-1SU
END:DAYLIGHT
BEGIN:STANDARD
TZOFFSETFROM:+0200
TZOFFSETTO:+0100
TZNAME:CET
DTSTART:19701025T030000
RRULE:FREQ=YEARLY;BYMONTH=10;BYDAY=-1SU
END:STANDARD
END:VTIMEZONE
BEGIN:VEVENT
SUMMARY:Öffentliche Weihnachtsfeier
DTSTART;TZID=Europe/Berlin:20241207T190000
DTEND;TZID=Europe/Berlin:20241207T190000
DESCRIPTION:Am 7. Dezember 2024 um 19 Uhr lädt das Sängerheim in Durlach-Aue zu einem Abend voller weihnachtlicher Chormusik, Speisen und Getränken ein.
LOCATION:Sängerheim, Ellmendinger Str. 4
UID:https://arge-aue.de/vereine-kirchen/veranstaltungen/termine/20271207-gesangverein-weihnachtsfeier.php
URL:https://arge-aue.de/vereine-kirchen/veranstaltungen/termine/20271207-gesangverein-weihnachtsfeier.php
END:VEVENT
END:VCALENDAR